{ "currentVersion": 11.4, "serviceDescription": "
4<\/SPAN>0 m resolution elevation data for eastern Lyttelton Harbour. <\/SPAN><\/P> Integer values are meters above sea level, Lyttelton datum, 1937.<\/SPAN><\/P> Horizontal coordinate system i<\/SPAN>s<\/SPAN> New Zealand Transverse Mercator<\/SPAN><\/P><\/DIV><\/DIV><\/DIV>",
"name": "ERST202/DEM",
"description": " 4<\/SPAN>0 m resolution elevation data for eastern Lyttelton Harbour. <\/SPAN><\/P> Integer values are meters above sea level, Lyttelton datum, 1937.<\/SPAN><\/P> Horizontal coordinate system i<\/SPAN>s<\/SPAN> New Zealand Transverse Mercator<\/SPAN><\/P><\/DIV><\/DIV><\/DIV>",
"extent": {
"xmin": 1569689.242592879,
"ymin": 5160604.360442814,
"xmax": 1575049.242592879,
"ymax": 5173764.360442814,
"spatialReference": {
"wkid": 2193,
"latestWkid": 2193
}
},
"initialExtent": {
"xmin": 1569689.242592879,
"ymin": 5160604.360442814,
"xmax": 1575049.242592879,
"ymax": 5173764.360442814,
"spatialReference": {
"wkid": 2193,
"latestWkid": 2193
}
},
"fullExtent": {
"xmin": 1569689.242592879,
"ymin": 5160604.360442814,
"xmax": 1575049.242592879,
"ymax": 5173764.360442814,
"spatialReference": {
"wkid": 2193,
"latestWkid": 2193
}
},
"sortableFields": "",
"bandCount": 1,
"pixelType": "S16",
"minValues": [
0
],
"maxValues": [
540
],
"meanValues": [
94.7751667195937
],
"stdvValues": [
127.44692499267254
],
"hasMultidimensions": false,
"pixelSizeX": 40,
"pixelSizeY": 40,
"meanPixelSize": 40,
"datasetFormat": "FGDBR",
"uncompressedSize": 88172,
"blockWidth": 128,
"blockHeight": 128,
"compressionType": "LZ77",
"bandNames": [
"Band_1"
],
"allowCopy": true,
"allowAnalysis": true,
"itemAccess": false,
"inspectionCapabilities": "",
"minPixelSize": 0,
"maxPixelSize": 0,
"copyrightText": "Manaaki Whenua/Landcare Research",
"serviceDataType": "esriImageServiceDataTypeGeneric",
"serviceSourceType": "esriImageServiceSourceTypeDataset",
"objectIdField": "",
"fields": [],
"capabilities": "Image,Metadata,Mensuration",
"defaultMosaicMethod": "Center",
"allowedMosaicMethods": "",
"sortField": "",
"sortValue": null,
"sortAscending": true,
"mosaicOperator": "First",
"defaultCompressionQuality": 75,
"defaultResamplingMethod": "Bilinear",
"maxImageHeight": 4100,
"maxImageWidth": 15000,
"allowRasterFunction": true,
"rasterFunctionInfos": [
{
"name": "None",
"description": "",
"help": ""
}
],
"rasterTypeInfos": [
{
"name": "Raster Dataset",
"description": "Supports all ArcGIS Raster Datasets",
"help": ""
}
],
"mensurationCapabilities": "Basic",
"hasHistograms": true,
"hasColormap": false,
"hasRasterAttributeTable": true,
"minScale": 0,
"maxScale": 0,
"exportTilesAllowed": false,
"supportsStatistics": false,
"supportsAdvancedQueries": false,
"editFieldsInfo": null,
"ownershipBasedAccessControlForRasters": null,
"allowComputeTiePoints": false,
"useStandardizedQueries": true,
"advancedQueryCapabilities": {
"useStandardizedQueries": true,
"supportsStatistics": false,
"supportsOrderBy": false,
"supportsDistinct": false,
"supportsPagination": false
},
"spatialReference": {
"wkid": 2193,
"latestWkid": 2193
}
}