View In:
ArcGIS JavaScript
ArcGIS Online Map Viewer
ArcGIS Earth
Service Description: 40 m resolution data on stream locations in eastern Lyttelton Harbour
Values:
0 = Not Streams
1 = Streams
Horizontal coordinate system is New Zealand Transverse Mercator
Name: ERST202/hydro
Description: 40 m resolution data on stream locations in eastern Lyttelton Harbour
Values:
0 = Not Streams
1 = Streams
Horizontal coordinate system is New Zealand Transverse Mercator
Single Fused Map Cache: false
Extent:
XMin: 1569689.242592879
YMin: 5160604.360442814
XMax: 1575049.242592879
YMax: 5173764.360442814
Spatial Reference: 2193
(2193)
LatestVCSWkid(0)
Initial Extent:
XMin: 1569689.242592879
YMin: 5160604.360442814
XMax: 1575049.242592879
YMax: 5173764.360442814
Spatial Reference: 2193
(2193)
LatestVCSWkid(0)
Full Extent:
XMin: 1569689.242592879
YMin: 5160604.360442814
XMax: 1575049.242592879
YMax: 5173764.360442814
Spatial Reference: 2193
(2193)
LatestVCSWkid(0)
Pixel Size X: 40.0
Pixel Size Y: 40.0
Band Count: 1
Pixel Type: U8
RasterFunction Infos: {"rasterFunctionInfos": [{
"name": "None",
"description": "",
"help": ""
}]}
Mensuration Capabilities: Basic
Inspection Capabilities:
Has Histograms: true
Has Colormap: false
Has Multi Dimensions : false
Rendering Rule:
Min Scale: 0
Max Scale: 0
Copyright Text: LINZ
Service Data Type: esriImageServiceDataTypeGeneric
Min Values: 0
Max Values: 1
Mean Values: 0.02776391598239804
Standard Deviation Values: 0.1642975752955224
Object ID Field:
Fields:
None
Default Mosaic Method: Center
Allowed Mosaic Methods:
SortField:
SortValue: null
Mosaic Operator: First
Default Compression Quality: 75
Default Resampling Method: Bilinear
Max Record Count: null
Max Image Height: 4100
Max Image Width: 15000
Max Download Image Count: null
Max Mosaic Image Count: null
Allow Raster Function: true
Allow Copy: true
Allow Analysis: true
Allow Compute TiePoints: false
Supports Statistics: false
Supports Advanced Queries: false
Use StandardizedQueries: true
Raster Type Infos:
Name: Raster Dataset
Description: Supports all ArcGIS Raster Datasets
Help:
Has Raster Attribute Table: true
Edit Fields Info: null
Ownership Based AccessControl For Rasters: null
Child Resources:
Info
Raster Attribute Table
Histograms
Statistics
Key Properties
Legend
Raster Function Infos
Supported Operations:
Export Image
Identify
Measure
Compute Histograms
Compute Statistics Histograms
Get Samples
Compute Class Statistics
Query Boundary
Compute Pixel Location
Compute Angles
Validate
Project